BEGIN:VCALENDAR
VERSION:2.0
PRODID:-//NoCo ARTS - ECPv6.15.20//NONSGML v1.0//EN
CALSCALE:GREGORIAN
METHOD:PUBLISH
X-WR-CALNAME:NoCo ARTS
X-ORIGINAL-URL:https://nocoartsnc.com
X-WR-CALDESC:Events for NoCo ARTS
REFRESH-INTERVAL;VALUE=DURATION:PT1H
X-Robots-Tag:noindex
X-PUBLISHED-TTL:PT1H
BEGIN:VTIMEZONE
TZID:America/New_York
BEGIN:DAYLIGHT
TZOFFSETFROM:-0500
TZOFFSETTO:-0400
TZNAME:EDT
DTSTART:20230312T070000
END:DAYLIGHT
BEGIN:STANDARD
TZOFFSETFROM:-0400
TZOFFSETTO:-0500
TZNAME:EST
DTSTART:20231105T060000
END:STANDARD
BEGIN:DAYLIGHT
TZOFFSETFROM:-0500
TZOFFSETTO:-0400
TZNAME:EDT
DTSTART:20240310T070000
END:DAYLIGHT
BEGIN:STANDARD
TZOFFSETFROM:-0400
TZOFFSETTO:-0500
TZNAME:EST
DTSTART:20241103T060000
END:STANDARD
BEGIN:DAYLIGHT
TZOFFSETFROM:-0500
TZOFFSETTO:-0400
TZNAME:EDT
DTSTART:20250309T070000
END:DAYLIGHT
BEGIN:STANDARD
TZOFFSETFROM:-0400
TZOFFSETTO:-0500
TZNAME:EST
DTSTART:20251102T060000
END:STANDARD
BEGIN:DAYLIGHT
TZOFFSETFROM:-0500
TZOFFSETTO:-0400
TZNAME:EDT
DTSTART:20260308T070000
END:DAYLIGHT
BEGIN:STANDARD
TZOFFSETFROM:-0400
TZOFFSETTO:-0500
TZNAME:EST
DTSTART:20261101T060000
END:STANDARD
END:VTIMEZONE
BEGIN:VEVENT
DTSTART;TZID=America/New_York:20250426T110000
DTEND;TZID=America/New_York:20250426T140000
DTSTAMP:20260420T050406
CREATED:20250410T200850Z
LAST-MODIFIED:20250415T175632Z
UID:1541-1745665200-1745676000@nocoartsnc.com
SUMMARY:Wet Cyanotype Workshop
DESCRIPTION:Take sunprint making to a whole new level by learning how to create wet cyanotypes with instructor Kat Evans. Participants will create several prints on different substrates\, including fabric. All materials for this workshop will be provided and includes a light lunch. \nCost: $85 all supplies and light lunch included \nCLICK HERE TO REGISTER AND PAY 
URL:https://nocoartsnc.com/event/wet-cyanotype-workshop/
LOCATION:NoCo ARTS\, 118 N. College Avene\, Newton\, NC\, NC\, 28658\, United States
ORGANIZER;CN="NoCo ARTS":MAILTO:info@nocoartsnc.ocm
END:VEVENT
BEGIN:VEVENT
DTSTART;TZID=America/New_York:20250405T103000
DTEND;TZID=America/New_York:20250405T123000
DTSTAMP:20260420T050406
CREATED:20250403T221408Z
LAST-MODIFIED:20250403T221408Z
UID:1467-1743849000-1743856200@nocoartsnc.com
SUMMARY:Spring Needle Felting
DESCRIPTION:Learn the basics of needle felting and create spring flowers and resurrection eggs inspired by Polish and German traditional crafts. Perfect for all skill levels\, this workshop combines hands-on learning with a celebration of spring’s beauty. Your instructor\, Dede Starnes\, will share wool and needle felting tool selection\, foundational needle felting techniques and finishing techniques. \nDede has over 20 years of experience leading students through creative projects. She has worked in photography\, print\, multimedia and fiber design. Dede has a gift of weaving together the golden threads of faith\, family and community. Her work reflects a passion for discovering the alchemy of God’s amazing creation\, inspiring students to explore their own artistic paths and embrace the power of telling their own story through their art. \nCLICK HERE TO REGISTER
URL:https://nocoartsnc.com/event/spring-needle-felting/
ORGANIZER;CN="NoCo ARTS":MAILTO:info@nocoartsnc.ocm
END:VEVENT
BEGIN:VEVENT
DTSTART;TZID=America/New_York:20250326T100000
DTEND;TZID=America/New_York:20250511T150000
DTSTAMP:20260420T050406
CREATED:20250403T231358Z
LAST-MODIFIED:20250403T231358Z
UID:1496-1742983200-1746975600@nocoartsnc.com
SUMMARY:Current Exhibition: Folk Art in the Foothills
DESCRIPTION:
URL:https://nocoartsnc.com/event/current-exhibition-folk-art-in-the-foothills/
ORGANIZER;CN="NoCo ARTS":MAILTO:info@nocoartsnc.ocm
END:VEVENT
BEGIN:VEVENT
DTSTART;TZID=America/New_York:20250213T100000
DTEND;TZID=America/New_York:20250316T150000
DTSTAMP:20260420T050406
CREATED:20250303T204841Z
LAST-MODIFIED:20250303T204841Z
UID:1247-1739440800-1742137200@nocoartsnc.com
SUMMARY:CURRENT EXHIBITION: ALCHEMY ARTISAN COLLECTIVE
DESCRIPTION:RUNS 2/13/25 – 3/16/25 \nThis exhibition is made up of twenty nine local artists offering a variety of mediums\, such as visual art\, ceramics\, pottery\, jewelry\, and woodworking. We have so much incredible talent offered in this space! \nPlease visit soon as this exhibition ends on 3/16/25. \nWe will host our LAST CHANCE SOIREE on Saturday\, March 15th from 5:00-7:00. Stop in and enjoy a fun evening with us where you can meet some of the artists and purchase that piece of art that connects with you before it’s gone! \n 
URL:https://nocoartsnc.com/event/current-exhibition-alchemy-artisan-collective/
END:VEVENT
BEGIN:VEVENT
DTSTART;TZID=America/New_York:20241019T170000
DTEND;TZID=America/New_York:20241019T200000
DTSTAMP:20260420T050406
CREATED:20240909T193056Z
LAST-MODIFIED:20240909T193313Z
UID:618-1729357200-1729368000@nocoartsnc.com
SUMMARY:MAGIC HOUR: an Evening of Art & Alchemy
DESCRIPTION:ONE NIGHT ONLY: Meet local artists and enjoy an immersive cultural experience. The evening will feature live music\, poetry\, connection\, and art for sale. The Alchemy Artist Collective is dedicated to bringing new creative energy to the foothills region\, and we are honored to produce the premiere event for NoCo Arts\, a new arts space in downtown Newton. Tickets are $35 which includes the Alchemy art experience\, an exclusive full-color art magazine\, small bites and cocktails. \nOctober 19\, 2024 | 5PM – 8PM\nNoCo Arts: 118 N. College Ave. Newton\, NC\nGET DIRECTIONS \n$15 from each ticket goes directly to our philanthropic partner Hickory Playground to support their mission of funding arts & theater projects in local public schools.
URL:https://nocoartsnc.com/event/magic-hour-an-evening-of-art-alchemy/
END:VEVENT
END:VCALENDAR